BEGIN:VCALENDAR
VERSION:2.0
PRODID:-//OmniMagnetCalendar//EN
BEGIN:VEVENT
DTSTAMP:20190625T195740Z
STATUS:CONFIRMED
UID:whartonny.com4122
DTSTART:20251112T000000Z
DTEND:20251112T020000Z
LOCATION:David H. Koch Theater, 20 Lincoln Center Plaza, New York, NY, 10023,
SUMMARY:* SOLD OUT *  Paul Taylor Dance Company Performance and Gala Night
DESCRIPTION:Join WCNY Arts & Culture Group for an evening at the ballet with Paul Taylor Dance Company, featuring a meet and greet with Doug Peterson, President and CEO of S&P Global. Enjoy performances: Stim (Lovette), Sunset, and Under the Rhythm.
BEGIN:VALARM
TRIGGER:-PT15M
ACTION:DISPLAY
END:VALARM
TRANSP:OPAQUE
END:VEVENT
END:VCALENDAR
