BEGIN:VCALENDAR
VERSION:2.0
PRODID:-//OmniMagnetCalendar//EN
BEGIN:VEVENT
DTSTAMP:20190625T195740Z
STATUS:CONFIRMED
UID:whartonny.com4193
DTSTART:20260506T220000Z
DTEND:20260507T000000Z
LOCATION:Midwtown, New York, NY,
SUMMARY:Global Business in 2026: Strategies for Thriving in an Uncertain World
DESCRIPTION:Join us for a dynamic conversation on what it takes to run and expand a global business in 2026
BEGIN:VALARM
TRIGGER:-PT15M
ACTION:DISPLAY
END:VALARM
TRANSP:OPAQUE
END:VEVENT
END:VCALENDAR
